BEGIN:VCALENDAR
VERSION:2.0
PRODID:-//Tukios.com/
BEGIN:VEVENT
UID:a0ef9ce5-64d7-4a0e-bfc2-e7847abb1830@www.tomlinsonfh.com
DTSTAMP:20260420T202434Z
DTSTART:20260424T210000Z
DTEND:20260424T230000Z
SUMMARY:Viewing
DESCRIPTION:
URL:https://www.tomlinsonfh.com/obituaries/carol-farren
LOCATION: 2207 Bristol Pike  Cornwells Heights PA 19020
GEO:40.0771675;-74.9508262
END:VEVENT
END:VCALENDAR