BEGIN:VCALENDAR
VERSION:2.0
PRODID:-//Tukios.com/
BEGIN:VEVENT
UID:e08e9561-2b39-490e-9182-7b4d0d3f6b24@www.tomlinsonfh.com
DTSTAMP:20260420T203046Z
DTSTART:20260424T230000Z
DTEND:20260424T233000Z
SUMMARY:Funeral Service
DESCRIPTION:
URL:https://www.tomlinsonfh.com/obituaries/carol-farren
LOCATION: 2207 Bristol Pike  Cornwells Heights PA 19020
GEO:40.0771675;-74.9508262
END:VEVENT
END:VCALENDAR